BEGIN:VCALENDAR
VERSION:2.0
PRODID:-//wp-events-plugin.com//6.4.6.4//EN
TZID:Europe/Brussels
X-WR-TIMEZONE:Europe/Brussels
BEGIN:VEVENT
UID:61@bioautrement.be
DTSTART;TZID=Europe/Brussels:20260904T203000
DTEND;TZID=Europe/Brussels:20260904T220000
DTSTAMP:20251130T210500Z
URL:https://www.bioautrement.be/events/brel-a-corps-et-a-cris-un-seul-en-s
 cene-declame/
SUMMARY:Brel à corps et à cris. Un seul en scène déclamé !
DESCRIPTION:BREL\, à corps et à cris !\nThéâtre\nde et par Olivier Clé
 ment\n\nPlongez dans l'univers vibrant et intemporel de Jacques Brel comme
  vous ne l'avez jamais vu. Dans ce spectacle unique\, vous êtes le maîtr
 e du programme : c'est vous\, public\, qui choisissez les textes qui prend
 ront vie sur scène.\n\nSeul en scène\, Olivier Clément s'efface pour la
 isser place à l'extraordinaire galerie de personnages créés par Brel. C
 haque texte devient une scène à part entière\, une histoire racontée\,
  jouée\, et ressentie\, où l'émotion brute côtoie l'humour et l'intens
 ité dramatique. Chaque personnage révèle une facette de cette humanité
  que Brel savait si bien chanter.\n\nUn hommage vivant et interactif\, où
  la poésie de Brel rencontre l'art du théâtre. Laissez-vous emporter pa
 r des scènes où l’humour côtoie la mélancolie\, où les mots frappen
 t et caressent\, où la musique de Brel résonne autrement.\nPlongez dans 
 un univers intense et authentique\, où les spectateurs ne sont pas seulem
 ent des témoins\, mais des complices d’une soirée qui ne ressemblera j
 amais à une autre.\n\nQue vous soyez fan de longue date ou curieux de dé
 couvrir autrement l'œuvre du Grand Jacques\, ce spectacle est une invitat
 ion à redécouvrir son génie... et à vivre ses textes autrement : à co
 rps et à cris.\n\nEntrée : 20€. Réservation souhaitée au 02/395.47.6
 0 ou contact@bioautrement.be\nOuverture des portes à 20h. Bar Bio avant e
 t après le spectacle.
ATTACH;FMTTYPE=image/jpeg:https://www.bioautrement.be/wp-content/uploads/2
 025/11/brel.webp
CATEGORIES:Spectacle
END:VEVENT
BEGIN:VTIMEZONE
TZID:Europe/Brussels
X-LIC-LOCATION:Europe/Brussels
BEGIN:DAYLIGHT
DTSTART:20260329T030000
TZOFFSETFROM:+0100
TZOFFSETTO:+0200
TZNAME:CEST
END:DAYLIGHT
END:VTIMEZONE
END:VCALENDAR