BEGIN:VCALENDAR
VERSION:2.0
PRODID:-//wp-events-plugin.com//6.4.6.4//EN
TZID:Europe/Brussels
X-WR-TIMEZONE:Europe/Brussels
BEGIN:VEVENT
UID:51@bioautrement.be
DTSTART;TZID=Europe/Brussels:20251001T200000
DTEND;TZID=Europe/Brussels:20251001T220000
DTSTAMP:20250827T205503Z
URL:https://www.bioautrement.be/events/compostez-moi-conference-sur-lhumus
 ation/
SUMMARY:Compostez moi ! Conférence sur l'humusation.
DESCRIPTION:Que deviendra votre dépouille après votre mort ?\n\nVoilà un
 e question qui peut heurter\, pourtant avec 110000 morts par an en Belgiqu
 e et plus de 100 millions dans le monde\, cette question du devenir des d
 épouilles trouve ici tout son sens.\n\nCe soir\, nous parlerons de la mor
 t mais surtout des modes de sépultures\, les traditionnels qui sont prati
 qués quotidiennement\, puis ceux en devenir dont l’humusation qui est l
 e procédé le plus respectueux de la TERRE MERE.\n\nLe reportage” compo
 stez-moi “ de Gazelle Gaignaire (2024) qui sera projeté en début de so
 irée\, contient plusieurs séquences filmées sur un site d’expériment
 ation d’humusation en Wallonie lors d’essais avec des dépouilles de p
 orcs. Il présente aussi ce qui se fait dans d’autres pays comme aux Eta
 ts-Unis et en Allemagne où des techniques assez proches mais plus complex
 es sont déjà légalisées ou en test.\nPour en savoir plus et poser tout
 es vos questions\, ne ratez pas cette rencontre avec différents-es repré
 sentants-es de la coopérative citoyenne Humusation qui présenteront auss
 i leur dernier projet : la création dans les Ardennes d’un Humusarium p
 our animaux de compagnie\, une première mondiale.\n\nEntrée : 10€. Ouv
 erture des portes à 19h40. Conférence à 20h.\n\nRéservation souhaitée
  au 02/395.47.60 ou contact@bioautrement.be
ATTACH;FMTTYPE=image/jpeg:https://www.bioautrement.be/wp-content/uploads/2
 025/08/humusation3.jpg
CATEGORIES:Conférence
END:VEVENT
BEGIN:VTIMEZONE
TZID:Europe/Brussels
X-LIC-LOCATION:Europe/Brussels
BEGIN:DAYLIGHT
DTSTART:20250330T030000
TZOFFSETFROM:+0100
TZOFFSETTO:+0200
TZNAME:CEST
END:DAYLIGHT
END:VTIMEZONE
END:VCALENDAR