BEGIN:VCALENDAR
VERSION:2.0
PRODID:-//wp-events-plugin.com//6.4.6.4//EN
TZID:Europe/Brussels
X-WR-TIMEZONE:Europe/Brussels
BEGIN:VEVENT
UID:67@bioautrement.be
DTSTART;TZID=Europe/Brussels:20260606T203000
DTEND;TZID=Europe/Brussels:20260606T220000
DTSTAMP:20260318T093139Z
URL:https://www.bioautrement.be/events/denis-richir-dans-trop-bien/
SUMMARY:Denis Richir dans "Trop Bien !".
DESCRIPTION:Amies et amis du rire\, bloquez cette date et réservez vos pla
 ces\, c'est assez fin !!!\n\n"Pas facile pour Denis Richir de faire du sta
 nd up… \nDans la vie\, tout lui réussit : de son enfance heureuse dans
  un milieu privilégié à son boulot épanouissant en passant par sa vie 
 de famille comblée…\nPas vraiment de quoi se plaindre.\nEt c’est bien
  là tout le problème quand on fait de la scène !\nHeureusement\, il lui
  en faudrait plus pour l’empêcher de parler de lui.\n\nAvec un nombrili
 sme décomplexé\, ce linguiste de formation nous partage son amour des te
 xtes bien écrits\, de la langue française\, des jeux de mots\,… et de 
 lui-même.\nLe tout sans le moindre second degré\, bien entendu."\n\nEntr
 ée : 20€. Réservation souhaitée.  02/395.47.60  ou contact@bioautre
 ment.be\n\nOuverture des portes à 20h. Bar Bio avant et après le spectac
 le.\n
ATTACH;FMTTYPE=image/jpeg:https://www.bioautrement.be/wp-content/uploads/2
 026/03/denis5.webp
CATEGORIES:Spectacle
END:VEVENT
BEGIN:VTIMEZONE
TZID:Europe/Brussels
X-LIC-LOCATION:Europe/Brussels
BEGIN:DAYLIGHT
DTSTART:20260329T030000
TZOFFSETFROM:+0100
TZOFFSETTO:+0200
TZNAME:CEST
END:DAYLIGHT
END:VTIMEZONE
END:VCALENDAR