BEGIN:VCALENDAR
VERSION:2.0
PRODID:-//wp-events-plugin.com//6.4.6.4//EN
TZID:Europe/Brussels
X-WR-TIMEZONE:Europe/Brussels
BEGIN:VEVENT
UID:69@bioautrement.be
DTSTART;TZID=Europe/Brussels:20260422T200000
DTEND;TZID=Europe/Brussels:20260422T220000
DTSTAMP:20260407T130220Z
URL:https://www.bioautrement.be/events/projection-du-film-ukraine-russie-d
 erriere-lecran-de-fumee/
SUMMARY:Projection du film : "Ukraine/Russie : derrière l'écran de fumée
 ."
DESCRIPTION:Une belle façon d'ouvrir la réflexion. Ce film présente\, no
 n pas LA vérité\, mais un autre point de vue\, un message de paix.  Cel
 ui qu'un média libre et indépendant peut plus facilement diffuser. Bienv
 enue à tous !\n\n&nbsp\;\n\n« Ukraine – Russie : derrière l’écran 
 de fumée »\n\nSeptembre 2025\, Alexandre Penasse\, journalise et rédact
 eur en chef du média Kairos est invité à participer à un Press Tour re
 groupant des journalistes et blogueurs du monde entier. Entre Moscou et le
 s zones de conflit\, c’est une autre réalité qui est observée\, vécu
 e et ressentie. L’idée du film documentaire s’est alors imposée comm
 e une nécessité : interroger ce décalage\, en donner une voix\, une vis
 ion sensible et proposer un autre point de vue.\n\nLe film prend la forme 
 d’un carnet de voyage filmé dans le Donbass\, il explore le quotidien e
 t la réalité des habitants d’une région en guerre\, loin des images o
 fficielles et des représentations souvent polarisées sur le sujet.\n\nIl
  donne la parole à des hommes\, des femmes et des familles directement im
 pactés.\n\nAu travers d’images\, de témoignages\, d’archives et d’
 interviews\, le film met en lumière des personnes qui subissent une guerr
 e depuis 2014\, interroge sur les conséquences concrètes et réelles du 
 conflit mais aussi sur l’avenir d’une génération qui grandit dans un
  contexte de violence et d’instabilité. Il contribue à une meilleure c
 ompréhension de cette réalité en proposant un regard complémentaire à
  celui habituellement diffusé\, et ouvre un espace de réflexion et d’
 échange autour des effets humains\, sociaux et culturels de la guerre.\n\
 nCes images montrent la guerre. Le film\, lui\, cherche ce qui lui survit 
 : les vies suspendues\, la résilience\, les gestes ordinaires\, ce qui r
 ésiste encore à la destruction. Il refuse la logique de l’inévitable 
 et réaffirme que la paix n’est pas une utopie\, mais une responsabilit
 é Le message du film ne passe pas par un discours\, mais par un choix de 
 regard : contextualiser\, rendre à ces images leur poids humain afin qu
 ’elles ne soient plus consommées\, mais interrogées.\n\nDans cette per
 spective\, la projection peut être accompagnée d’un temps de discussio
 n entre le réalisateur et le public. Le film est d’une durée de 60 min
 utes.\n\nEntrée : 10€. Réservation souhaitée.  02/395.47.60 ou conta
 ct@bioautrement.be  Ouverture des portes à 19h40.
ATTACH;FMTTYPE=image/jpeg:https://www.bioautrement.be/wp-content/uploads/2
 026/04/russie.jpg
CATEGORIES:Cinéma
END:VEVENT
BEGIN:VTIMEZONE
TZID:Europe/Brussels
X-LIC-LOCATION:Europe/Brussels
BEGIN:DAYLIGHT
DTSTART:20260329T030000
TZOFFSETFROM:+0100
TZOFFSETTO:+0200
TZNAME:CEST
END:DAYLIGHT
END:VTIMEZONE
END:VCALENDAR